Package: KCsmart Version: 2.62.0 Command: chmod a+r KCsmart -R && E:\biocbuild\bbs-3.19-bioc\R\bin\R.exe CMD build --keep-empty-dirs --no-resave-data KCsmart StartedAt: 2024-10-16 19:56:57 -0400 (Wed, 16 Oct 2024) EndedAt: 2024-10-16 19:57:34 -0400 (Wed, 16 Oct 2024) EllapsedTime: 37.4 seconds RetCode: 0 Status: OK PackageFile: KCsmart_2.62.0.tar.gz PackageFileSize: 1.714 MiB