Package: KEGGREST Version: 1.44.1 Command: /Library/Frameworks/R.framework/Resources/bin/R CMD build --keep-empty-dirs --no-resave-data KEGGREST StartedAt: 2024-10-17 03:09:54 -0400 (Thu, 17 Oct 2024) EndedAt: 2024-10-17 03:10:33 -0400 (Thu, 17 Oct 2024) EllapsedTime: 39.6 seconds RetCode: 0 Status: OK PackageFile: KEGGREST_1.44.1.tar.gz PackageFileSize: 22.46 KiB