Package: KEGGREST Version: 1.44.1 Command: /Library/Frameworks/R.framework/Resources/bin/R CMD INSTALL KEGGREST StartedAt: 2024-10-16 15:53:41 -0400 (Wed, 16 Oct 2024) EndedAt: 2024-10-16 15:53:53 -0400 (Wed, 16 Oct 2024) EllapsedTime: 12.3 seconds RetCode: 0 Status: OK