Package: KEGGREST Version: 1.44.0 Command: /home/biocbuild/R/R-beta-2024-04-15_r86425/bin/R CMD build --keep-empty-dirs --no-resave-data KEGGREST StartedAt: 2024-05-09 01:14:16 -0000 (Thu, 09 May 2024) EndedAt: 2024-05-09 01:14:49 -0000 (Thu, 09 May 2024) EllapsedTime: 33.0 seconds RetCode: 0 Status: OK PackageFile: KEGGREST_1.44.0.tar.gz PackageFileSize: 22.41 KiB