Package: KEGGREST Version: 1.44.1 Command: rm -rf KEGGREST.buildbin-libdir && mkdir KEGGREST.buildbin-libdir && /Users/biocbuild/BBS/utils/build-universal.sh KEGGREST_1.44.1.tar.gz /Library/Frameworks/R.framework/Resources/bin/R KEGGREST.buildbin-libdir StartedAt: 2024-10-17 16:27:49 -0400 (Thu, 17 Oct 2024) EndedAt: 2024-10-17 16:28:14 -0400 (Thu, 17 Oct 2024) EllapsedTime: 25.9 seconds RetCode: 0 Status: OK PackageFile: KEGGREST_1.44.1.tgz PackageFileSize: 187.2 KiB