Package: KEGGREST Version: 1.44.1 Command: F:\biocbuild\bbs-3.19-bioc\R\bin\R.exe CMD INSTALL KEGGREST StartedAt: 2024-06-26 15:50:01 -0400 (Wed, 26 Jun 2024) EndedAt: 2024-06-26 15:50:18 -0400 (Wed, 26 Jun 2024) EllapsedTime: 16.9 seconds RetCode: 0 Status: OK