Package: KEGGREST Version: 1.44.1 Command: rm -rf KEGGREST.buildbin-libdir && mkdir KEGGREST.buildbin-libdir && E:\biocbuild\bbs-3.19-bioc\R\bin\R.exe CMD INSTALL --build --library=KEGGREST.buildbin-libdir KEGGREST_1.44.1.tar.gz StartedAt: 2024-10-17 08:01:56 -0400 (Thu, 17 Oct 2024) EndedAt: 2024-10-17 08:02:18 -0400 (Thu, 17 Oct 2024) EllapsedTime: 21.9 seconds RetCode: 0 Status: OK PackageFile: KEGGREST_1.44.1.zip PackageFileSize: 192.4 KiB