Package: KEGGREST Version: 1.44.1 Command: chmod a+r KEGGREST -R && E:\biocbuild\bbs-3.19-bioc\R\bin\R.exe CMD build --keep-empty-dirs --no-resave-data KEGGREST StartedAt: 2024-10-16 19:57:28 -0400 (Wed, 16 Oct 2024) EndedAt: 2024-10-16 19:58:03 -0400 (Wed, 16 Oct 2024) EllapsedTime: 34.8 seconds RetCode: 0 Status: OK PackageFile: KEGGREST_1.44.1.tar.gz PackageFileSize: 22.73 KiB