Package: KEGGREST Version: 1.44.1 Command: E:\biocbuild\bbs-3.19-bioc\R\bin\R.exe CMD check --no-multiarch --install=check:KEGGREST.install-out.txt --library=E:\biocbuild\bbs-3.19-bioc\R\library --no-vignettes --timings KEGGREST_1.44.1.tar.gz StartedAt: 2024-10-17 02:43:10 -0400 (Thu, 17 Oct 2024) EndedAt: 2024-10-17 02:46:39 -0400 (Thu, 17 Oct 2024) EllapsedTime: 208.8 seconds RetCode: 0 Status: OK CheckDir: KEGGREST.Rcheck Warnings: 0