Package: KEGGlincs Version: 1.30.0 Command: /Library/Frameworks/R.framework/Resources/bin/R CMD check --install=check:KEGGlincs.install-out.txt --library=/Library/Frameworks/R.framework/Resources/library --no-vignettes --timings KEGGlincs_1.30.0.tar.gz StartedAt: 2024-10-18 01:56:19 -0400 (Fri, 18 Oct 2024) EndedAt: 2024-10-18 02:00:53 -0400 (Fri, 18 Oct 2024) EllapsedTime: 274.1 seconds RetCode: 0 Status: OK CheckDir: KEGGlincs.Rcheck Warnings: 0