Package: KEGGlincs Version: 1.30.0 Command: /home/biocbuild/R/R-beta-2024-04-15_r86425/bin/R CMD build --keep-empty-dirs --no-resave-data KEGGlincs StartedAt: 2024-05-09 01:14:07 -0000 (Thu, 09 May 2024) EndedAt: 2024-05-09 01:15:18 -0000 (Thu, 09 May 2024) EllapsedTime: 71.1 seconds RetCode: 0 Status: OK PackageFile: KEGGlincs_1.30.0.tar.gz PackageFileSize: 4.215 MiB