Package: KEGGlincs Version: 1.30.0 Command: /home/biocbuild/R/R-beta-2024-04-15_r86425/bin/R CMD check --install=check:KEGGlincs.install-out.txt --library=/home/biocbuild/R/R-beta-2024-04-15_r86425/site-library --no-vignettes --timings KEGGlincs_1.30.0.tar.gz StartedAt: 2024-05-09 08:47:53 -0000 (Thu, 09 May 2024) EndedAt: 2024-05-09 08:52:50 -0000 (Thu, 09 May 2024) EllapsedTime: 297.6 seconds RetCode: 0 Status: OK CheckDir: KEGGlincs.Rcheck Warnings: 0