Package: KEGGlincs Version: 1.30.0 Command: /Library/Frameworks/R.framework/Resources/bin/R CMD build --keep-empty-dirs --no-resave-data KEGGlincs StartedAt: 2024-10-16 20:21:35 -0400 (Wed, 16 Oct 2024) EndedAt: 2024-10-16 20:23:40 -0400 (Wed, 16 Oct 2024) EllapsedTime: 125.2 seconds RetCode: 0 Status: OK PackageFile: KEGGlincs_1.30.0.tar.gz PackageFileSize: 4.215 MiB