Package: KEGGlincs Version: 1.30.0 Command: /home/biocbuild/bbs-3.19-bioc/R/bin/R CMD build --keep-empty-dirs --no-resave-data KEGGlincs StartedAt: 2024-10-16 19:10:09 -0400 (Wed, 16 Oct 2024) EndedAt: 2024-10-16 19:10:59 -0400 (Wed, 16 Oct 2024) EllapsedTime: 50.1 seconds RetCode: 0 Status: OK PackageFile: KEGGlincs_1.30.0.tar.gz PackageFileSize: 4.215 MiB