Package: KEGGlincs Version: 1.30.0 Command: rm -rf KEGGlincs.buildbin-libdir && mkdir KEGGlincs.buildbin-libdir && F:\biocbuild\bbs-3.19-bioc\R\bin\R.exe CMD INSTALL --build --library=KEGGlincs.buildbin-libdir KEGGlincs_1.30.0.tar.gz StartedAt: 2024-06-27 08:24:48 -0400 (Thu, 27 Jun 2024) EndedAt: 2024-06-27 08:25:29 -0400 (Thu, 27 Jun 2024) EllapsedTime: 40.7 seconds RetCode: 0 Status: OK PackageFile: KEGGlincs_1.30.0.zip PackageFileSize: 2.277 MiB