Package: KEGGlincs Version: 1.30.0 Command: chmod a+r KEGGlincs -R && F:\biocbuild\bbs-3.19-bioc\R\bin\R.exe CMD build --keep-empty-dirs --no-resave-data KEGGlincs StartedAt: 2024-06-26 19:42:20 -0400 (Wed, 26 Jun 2024) EndedAt: 2024-06-26 19:43:29 -0400 (Wed, 26 Jun 2024) EllapsedTime: 68.7 seconds RetCode: 0 Status: OK PackageFile: KEGGlincs_1.30.0.tar.gz PackageFileSize: 4.215 MiB