Package: KEGGlincs Version: 1.30.0 Command: chmod a+r KEGGlincs -R && E:\biocbuild\bbs-3.19-bioc\R\bin\R.exe CMD build --keep-empty-dirs --no-resave-data KEGGlincs StartedAt: 2024-10-16 19:57:16 -0400 (Wed, 16 Oct 2024) EndedAt: 2024-10-16 19:58:22 -0400 (Wed, 16 Oct 2024) EllapsedTime: 65.9 seconds RetCode: 0 Status: OK PackageFile: KEGGlincs_1.30.0.tar.gz PackageFileSize: 4.215 MiB