Package: KEGGlincs Version: 1.30.0 Command: E:\biocbuild\bbs-3.19-bioc\R\bin\R.exe CMD INSTALL KEGGlincs StartedAt: 2024-10-16 16:21:01 -0400 (Wed, 16 Oct 2024) EndedAt: 2024-10-16 16:21:25 -0400 (Wed, 16 Oct 2024) EllapsedTime: 24.0 seconds RetCode: 0 Status: OK