Package: KinSwingR Version: 1.22.0 Command: /Library/Frameworks/R.framework/Resources/bin/R CMD check --install=check:KinSwingR.install-out.txt --library=/Library/Frameworks/R.framework/Resources/library --no-vignettes --timings KinSwingR_1.22.0.tar.gz StartedAt: 2024-06-10 19:57:28 -0400 (Mon, 10 Jun 2024) EndedAt: 2024-06-10 19:59:22 -0400 (Mon, 10 Jun 2024) EllapsedTime: 114.2 seconds RetCode: 0 Status: OK CheckDir: KinSwingR.Rcheck Warnings: 0