Package: KinSwingR Version: 1.22.0 Command: rm -rf KinSwingR.buildbin-libdir && mkdir KinSwingR.buildbin-libdir && /Users/biocbuild/BBS/utils/build-universal.sh KinSwingR_1.22.0.tar.gz /Library/Frameworks/R.framework/Resources/bin/R KinSwingR.buildbin-libdir StartedAt: 2024-10-17 16:27:49 -0400 (Thu, 17 Oct 2024) EndedAt: 2024-10-17 16:28:02 -0400 (Thu, 17 Oct 2024) EllapsedTime: 13.0 seconds RetCode: 0 Status: OK PackageFile: KinSwingR_1.22.0.tgz PackageFileSize: 703.5 KiB