Package: LEA Version: 3.16.0 Command: /Library/Frameworks/R.framework/Resources/bin/R CMD INSTALL LEA StartedAt: 2024-10-16 15:35:58 -0400 (Wed, 16 Oct 2024) EndedAt: 2024-10-16 15:36:19 -0400 (Wed, 16 Oct 2024) EllapsedTime: 21.1 seconds RetCode: 0 Status: OK