Package: LEA Version: 3.16.0 Command: /home/biocbuild/bbs-3.19-bioc/R/bin/R CMD check --install=check:LEA.install-out.txt --library=/home/biocbuild/bbs-3.19-bioc/R/site-library --timings LEA_3.16.0.tar.gz StartedAt: 2024-10-17 01:51:41 -0400 (Thu, 17 Oct 2024) EndedAt: 2024-10-17 01:55:02 -0400 (Thu, 17 Oct 2024) EllapsedTime: 201.5 seconds RetCode: 0 Status: OK CheckDir: LEA.Rcheck Warnings: 0