Package: LEA Version: 3.16.0 Command: chmod a+r LEA -R && F:\biocbuild\bbs-3.19-bioc\R\bin\R.exe CMD build --keep-empty-dirs --no-resave-data LEA StartedAt: 2024-06-26 19:43:29 -0400 (Wed, 26 Jun 2024) EndedAt: 2024-06-26 19:46:16 -0400 (Wed, 26 Jun 2024) EllapsedTime: 167.2 seconds RetCode: 0 Status: OK PackageFile: LEA_3.16.0.tar.gz PackageFileSize: 742.3 KiB