Package: LEA Version: 3.16.0 Command: E:\biocbuild\bbs-3.19-bioc\R\bin\R.exe CMD INSTALL LEA StartedAt: 2024-10-16 15:59:22 -0400 (Wed, 16 Oct 2024) EndedAt: 2024-10-16 16:00:14 -0400 (Wed, 16 Oct 2024) EllapsedTime: 51.3 seconds RetCode: 0 Status: OK