Package: LOBSTAHS Version: 1.30.0 Command: /Library/Frameworks/R.framework/Resources/bin/R CMD check --install=check:LOBSTAHS.install-out.txt --library=/Library/Frameworks/R.framework/Resources/library --no-vignettes --timings LOBSTAHS_1.30.0.tar.gz StartedAt: 2024-10-18 02:12:27 -0400 (Fri, 18 Oct 2024) EndedAt: 2024-10-18 02:19:12 -0400 (Fri, 18 Oct 2024) EllapsedTime: 405.3 seconds RetCode: 0 Status: WARNINGS CheckDir: LOBSTAHS.Rcheck Warnings: 1