Package: LOBSTAHS Version: 1.30.0 Command: rm -rf LOBSTAHS.buildbin-libdir && mkdir LOBSTAHS.buildbin-libdir && /Users/biocbuild/BBS/utils/build-universal.sh LOBSTAHS_1.30.0.tar.gz /Library/Frameworks/R.framework/Resources/bin/R LOBSTAHS.buildbin-libdir StartedAt: 2024-10-17 16:28:51 -0400 (Thu, 17 Oct 2024) EndedAt: 2024-10-17 16:30:46 -0400 (Thu, 17 Oct 2024) EllapsedTime: 114.1 seconds RetCode: 0 Status: OK PackageFile: LOBSTAHS_1.30.0.tgz PackageFileSize: 1.994 MiB