Package: LRBaseDbi Version: 2.14.0 Command: /Library/Frameworks/R.framework/Resources/bin/R CMD build --keep-empty-dirs --no-resave-data LRBaseDbi StartedAt: 2024-10-17 03:19:38 -0400 (Thu, 17 Oct 2024) EndedAt: 2024-10-17 03:20:20 -0400 (Thu, 17 Oct 2024) EllapsedTime: 41.8 seconds RetCode: 0 Status: OK PackageFile: LRBaseDbi_2.14.0.tar.gz PackageFileSize: 146 KiB