Package: LRBaseDbi Version: 2.14.0 Command: /Library/Frameworks/R.framework/Resources/bin/R CMD INSTALL LRBaseDbi StartedAt: 2024-10-16 16:14:35 -0400 (Wed, 16 Oct 2024) EndedAt: 2024-10-16 16:14:50 -0400 (Wed, 16 Oct 2024) EllapsedTime: 14.8 seconds RetCode: 0 Status: OK