Package: LRBaseDbi Version: 2.14.0 Command: /home/biocbuild/R/R-beta-2024-04-15_r86425/bin/R CMD build --keep-empty-dirs --no-resave-data LRBaseDbi StartedAt: 2024-05-09 01:18:08 -0000 (Thu, 09 May 2024) EndedAt: 2024-05-09 01:18:44 -0000 (Thu, 09 May 2024) EllapsedTime: 35.1 seconds RetCode: 0 Status: OK PackageFile: LRBaseDbi_2.14.0.tar.gz PackageFileSize: 139 KiB