Package: LRBaseDbi Version: 2.14.0 Command: /Library/Frameworks/R.framework/Resources/bin/R CMD build --keep-empty-dirs --no-resave-data LRBaseDbi StartedAt: 2024-06-09 17:07:00 -0400 (Sun, 09 Jun 2024) EndedAt: 2024-06-09 17:07:33 -0400 (Sun, 09 Jun 2024) EllapsedTime: 32.7 seconds RetCode: 0 Status: OK PackageFile: LRBaseDbi_2.14.0.tar.gz PackageFileSize: 146 KiB