Package: LRBaseDbi Version: 2.14.0 Command: rm -rf LRBaseDbi.buildbin-libdir && mkdir LRBaseDbi.buildbin-libdir && F:\biocbuild\bbs-3.19-bioc\R\bin\R.exe CMD INSTALL --build --library=LRBaseDbi.buildbin-libdir LRBaseDbi_2.14.0.tar.gz StartedAt: 2024-06-27 08:26:03 -0400 (Thu, 27 Jun 2024) EndedAt: 2024-06-27 08:26:32 -0400 (Thu, 27 Jun 2024) EllapsedTime: 29.7 seconds RetCode: 0 Status: OK PackageFile: LRBaseDbi_2.14.0.zip PackageFileSize: 560.2 KiB