Package: LRBaseDbi Version: 2.14.0 Command: F:\biocbuild\bbs-3.19-bioc\R\bin\R.exe CMD INSTALL LRBaseDbi StartedAt: 2024-06-26 15:58:58 -0400 (Wed, 26 Jun 2024) EndedAt: 2024-06-26 15:59:20 -0400 (Wed, 26 Jun 2024) EllapsedTime: 22.2 seconds RetCode: 0 Status: OK