Package: LinTInd Version: 1.8.0 Maintainer: Luyue Wang MaintainerEmail: wly1995310 at gmail.com git_url: https://git.bioconductor.org/packages/LinTInd git_branch: RELEASE_3_19 git_last_commit: 4f54123 git_last_commit_date: 2024-04-30 11:40:13 -0400 (Tue, 30 Apr 2024)