Package: LinTInd Version: 1.8.0 Command: /Library/Frameworks/R.framework/Resources/bin/R CMD build --keep-empty-dirs --no-resave-data LinTInd StartedAt: 2024-10-17 03:16:38 -0400 (Thu, 17 Oct 2024) EndedAt: 2024-10-17 03:17:36 -0400 (Thu, 17 Oct 2024) EllapsedTime: 57.2 seconds RetCode: 0 Status: OK PackageFile: LinTInd_1.8.0.tar.gz PackageFileSize: 1.573 MiB