Package: LinTInd Version: 1.8.0 Command: rm -rf LinTInd.buildbin-libdir && mkdir LinTInd.buildbin-libdir && F:\biocbuild\bbs-3.19-bioc\R\bin\R.exe CMD INSTALL --build --library=LinTInd.buildbin-libdir LinTInd_1.8.0.tar.gz StartedAt: 2024-06-27 08:25:35 -0400 (Thu, 27 Jun 2024) EndedAt: 2024-06-27 08:26:15 -0400 (Thu, 27 Jun 2024) EllapsedTime: 40.0 seconds RetCode: 0 Status: OK PackageFile: LinTInd_1.8.0.zip PackageFileSize: 576.8 KiB