Package: LinTInd Version: 1.8.0 Command: F:\biocbuild\bbs-3.19-bioc\R\bin\R.exe CMD INSTALL LinTInd StartedAt: 2024-06-26 16:15:13 -0400 (Wed, 26 Jun 2024) EndedAt: 2024-06-26 16:15:41 -0400 (Wed, 26 Jun 2024) EllapsedTime: 28.2 seconds RetCode: 0 Status: OK