Package: LinTInd Version: 1.8.0 Command: chmod a+r LinTInd -R && E:\biocbuild\bbs-3.19-bioc\R\bin\R.exe CMD build --keep-empty-dirs --no-resave-data LinTInd StartedAt: 2024-10-16 19:59:54 -0400 (Wed, 16 Oct 2024) EndedAt: 2024-10-16 20:00:53 -0400 (Wed, 16 Oct 2024) EllapsedTime: 59.4 seconds RetCode: 0 Status: OK PackageFile: LinTInd_1.8.0.tar.gz PackageFileSize: 1.454 MiB