Package: LinTInd Version: 1.8.0 Command: E:\biocbuild\bbs-3.19-bioc\R\bin\R.exe CMD INSTALL LinTInd StartedAt: 2024-10-16 16:38:09 -0400 (Wed, 16 Oct 2024) EndedAt: 2024-10-16 16:38:39 -0400 (Wed, 16 Oct 2024) EllapsedTime: 29.1 seconds RetCode: 0 Status: OK