Package: LiquidAssociation Version: 1.58.0 Command: rm -rf LiquidAssociation.buildbin-libdir && mkdir LiquidAssociation.buildbin-libdir && /Users/biocbuild/BBS/utils/build-universal.sh LiquidAssociation_1.58.0.tar.gz /Library/Frameworks/R.framework/Resources/bin/R LiquidAssociation.buildbin-libdir StartedAt: 2024-10-18 19:10:22 -0400 (Fri, 18 Oct 2024) EndedAt: 2024-10-18 19:10:45 -0400 (Fri, 18 Oct 2024) EllapsedTime: 23.0 seconds RetCode: 0 Status: OK PackageFile: LiquidAssociation_1.58.0.tgz PackageFileSize: 500.6 KiB