Package: LiquidAssociation Version: 1.58.0 Command: /Library/Frameworks/R.framework/Resources/bin/R CMD build --keep-empty-dirs --no-resave-data LiquidAssociation StartedAt: 2024-10-17 03:17:14 -0400 (Thu, 17 Oct 2024) EndedAt: 2024-10-17 03:17:55 -0400 (Thu, 17 Oct 2024) EllapsedTime: 40.5 seconds RetCode: 0 Status: OK PackageFile: LiquidAssociation_1.58.0.tar.gz PackageFileSize: 285.8 KiB