Package: LiquidAssociation Version: 1.58.0 Command: /Library/Frameworks/R.framework/Resources/bin/R CMD check --install=check:LiquidAssociation.install-out.txt --library=/Library/Frameworks/R.framework/Resources/library --no-vignettes --timings LiquidAssociation_1.58.0.tar.gz StartedAt: 2024-10-18 02:10:30 -0400 (Fri, 18 Oct 2024) EndedAt: 2024-10-18 02:12:29 -0400 (Fri, 18 Oct 2024) EllapsedTime: 119.2 seconds RetCode: 0 Status: OK CheckDir: LiquidAssociation.Rcheck Warnings: 0