Package: LiquidAssociation Version: 1.58.0 Command: /Library/Frameworks/R.framework/Resources/bin/R CMD build --keep-empty-dirs --no-resave-data LiquidAssociation StartedAt: 2024-06-09 23:37:33 -0400 (Sun, 09 Jun 2024) EndedAt: 2024-06-09 23:38:19 -0400 (Sun, 09 Jun 2024) EllapsedTime: 45.5 seconds RetCode: 0 Status: OK PackageFile: LiquidAssociation_1.58.0.tar.gz PackageFileSize: 285.2 KiB