Package: LiquidAssociation Version: 1.58.0 Command: /home/biocbuild/bbs-3.19-bioc/R/bin/R CMD build --keep-empty-dirs --no-resave-data LiquidAssociation StartedAt: 2024-10-16 19:12:35 -0400 (Wed, 16 Oct 2024) EndedAt: 2024-10-16 19:13:02 -0400 (Wed, 16 Oct 2024) EllapsedTime: 27.1 seconds RetCode: 0 Status: OK PackageFile: LiquidAssociation_1.58.0.tar.gz PackageFileSize: 171.4 KiB