Package: LiquidAssociation Version: 1.58.0 Command: F:\biocbuild\bbs-3.19-bioc\R\bin\R.exe CMD INSTALL LiquidAssociation StartedAt: 2024-06-26 15:58:21 -0400 (Wed, 26 Jun 2024) EndedAt: 2024-06-26 15:58:46 -0400 (Wed, 26 Jun 2024) EllapsedTime: 24.4 seconds RetCode: 0 Status: OK