Package: LiquidAssociation Version: 1.58.0 Command: rm -rf LiquidAssociation.buildbin-libdir && mkdir LiquidAssociation.buildbin-libdir && E:\biocbuild\bbs-3.19-bioc\R\bin\R.exe CMD INSTALL --build --library=LiquidAssociation.buildbin-libdir LiquidAssociation_1.58.0.tar.gz StartedAt: 2024-10-17 08:02:48 -0400 (Thu, 17 Oct 2024) EndedAt: 2024-10-17 08:04:22 -0400 (Thu, 17 Oct 2024) EllapsedTime: 93.4 seconds RetCode: 0 Status: OK PackageFile: LiquidAssociation_1.58.0.zip PackageFileSize: 396.9 KiB