Package: LiquidAssociation Version: 1.58.0 Command: E:\biocbuild\bbs-3.19-bioc\R\bin\R.exe CMD check --no-multiarch --install=check:LiquidAssociation.install-out.txt --library=E:\biocbuild\bbs-3.19-bioc\R\library --no-vignettes --timings LiquidAssociation_1.58.0.tar.gz StartedAt: 2024-10-17 02:47:44 -0400 (Thu, 17 Oct 2024) EndedAt: 2024-10-17 02:49:42 -0400 (Thu, 17 Oct 2024) EllapsedTime: 117.6 seconds RetCode: 0 Status: OK CheckDir: LiquidAssociation.Rcheck Warnings: 0