Package: LoomExperiment Version: 1.22.0 Command: /Library/Frameworks/R.framework/Resources/bin/R CMD build --keep-empty-dirs --no-resave-data LoomExperiment StartedAt: 2024-10-17 03:18:44 -0400 (Thu, 17 Oct 2024) EndedAt: 2024-10-17 03:19:38 -0400 (Thu, 17 Oct 2024) EllapsedTime: 53.7 seconds RetCode: 0 Status: OK PackageFile: LoomExperiment_1.22.0.tar.gz PackageFileSize: 252.9 KiB