Package: LoomExperiment Version: 1.22.0 Command: /home/biocbuild/R/R-beta-2024-04-15_r86425/bin/R CMD build --keep-empty-dirs --no-resave-data LoomExperiment StartedAt: 2024-05-09 01:17:57 -0000 (Thu, 09 May 2024) EndedAt: 2024-05-09 01:18:55 -0000 (Thu, 09 May 2024) EllapsedTime: 57.1 seconds RetCode: 0 Status: OK PackageFile: LoomExperiment_1.22.0.tar.gz PackageFileSize: 279 KiB