Package: LymphoSeq Version: 1.32.0 Command: rm -rf LymphoSeq.buildbin-libdir && mkdir LymphoSeq.buildbin-libdir && /Users/biocbuild/BBS/utils/build-universal.sh LymphoSeq_1.32.0.tar.gz /Library/Frameworks/R.framework/Resources/bin/R LymphoSeq.buildbin-libdir StartedAt: 2024-10-18 19:11:32 -0400 (Fri, 18 Oct 2024) EndedAt: 2024-10-18 19:12:01 -0400 (Fri, 18 Oct 2024) EllapsedTime: 29.4 seconds RetCode: 0 Status: OK PackageFile: LymphoSeq_1.32.0.tgz PackageFileSize: 2.487 MiB