Package: LymphoSeq Version: 1.32.0 Command: /Library/Frameworks/R.framework/Resources/bin/R CMD build --keep-empty-dirs --no-resave-data LymphoSeq StartedAt: 2024-06-09 23:39:20 -0400 (Sun, 09 Jun 2024) EndedAt: 2024-06-09 23:41:06 -0400 (Sun, 09 Jun 2024) EllapsedTime: 106.6 seconds RetCode: 0 Status: OK PackageFile: LymphoSeq_1.32.0.tar.gz PackageFileSize: 2.346 MiB